BEGIN:VCALENDAR
VERSION:2.0
PRODID:-// - ECPv6.15.20//NONSGML v1.0//EN
CALSCALE:GREGORIAN
METHOD:PUBLISH
X-ORIGINAL-URL:https://lumenscholar.org
X-WR-CALDESC:Events for 
REFRESH-INTERVAL;VALUE=DURATION:PT1H
X-Robots-Tag:noindex
X-PUBLISHED-TTL:PT1H
BEGIN:VTIMEZONE
TZID:America/Denver
BEGIN:DAYLIGHT
TZOFFSETFROM:-0700
TZOFFSETTO:-0600
TZNAME:MDT
DTSTART:20250309T090000
END:DAYLIGHT
BEGIN:STANDARD
TZOFFSETFROM:-0600
TZOFFSETTO:-0700
TZNAME:MST
DTSTART:20251102T080000
END:STANDARD
BEGIN:DAYLIGHT
TZOFFSETFROM:-0700
TZOFFSETTO:-0600
TZNAME:MDT
DTSTART:20260308T090000
END:DAYLIGHT
BEGIN:STANDARD
TZOFFSETFROM:-0600
TZOFFSETTO:-0700
TZNAME:MST
DTSTART:20261101T080000
END:STANDARD
BEGIN:DAYLIGHT
TZOFFSETFROM:-0700
TZOFFSETTO:-0600
TZNAME:MDT
DTSTART:20270314T090000
END:DAYLIGHT
BEGIN:STANDARD
TZOFFSETFROM:-0600
TZOFFSETTO:-0700
TZNAME:MST
DTSTART:20271107T080000
END:STANDARD
END:VTIMEZONE
BEGIN:VEVENT
DTSTART;TZID=America/Denver:20260828T100000
DTEND;TZID=America/Denver:20260828T120000
DTSTAMP:20260423T014843
CREATED:20260422T155619Z
LAST-MODIFIED:20260422T155619Z
UID:10002620-1787911200-1787918400@lumenscholar.org
SUMMARY:Family Event: Back-to-School Snowcone Social🍧
DESCRIPTION:Back to School Snowcone Social! ☀️ \nJoin us as we kick off the new school year with a fun-filled morning at the park! \n📅 August 28th\n⏰ 10:00 AM – 12:00 PM\n📍 Vineyard Grove Park \nCome reconnect with your Lumen friends\, meet new friends\, and get to know your teachers! Enjoy a delicious Kona Ice snowcone while the kids have a blast at the splash pad\, tennis courts\, playground\, and outdoor games. \nWhat You Need to Know: \n\nWhat to Bring: Please bring a blanket or lawn chairs so you can comfortably relax with your family\, in case there aren’t enough picnic tables at the park.\nImportant: This is a family event\, so we ask that parents stay with their children throughout the picnic. Unfortunately\, we won’t be able to provide supervision\, so please plan to stay and enjoy the day together\, and take the opportunity to get to know other Lumen families.\n\nThe deadline to register for tickets for this event is Wednesday\, August 26th\, at 4:00 PM. \nWe can’t wait to see you there! It’s the perfect way to start the school year! 🎉
URL:https://lumenscholar.org/event/family-event-back-to-school-snowcone-social%f0%9f%8d%a7/
LOCATION:Vineyard Grove Park\, 350 N 100 E\, Vineyard\, UT\, 84059\, United States
CATEGORIES:Entire School
ATTACH;FMTTYPE=image/jpeg:https://lumenscholar.org/wp-content/uploads/2026/04/Aug.-28th.jpg
END:VEVENT
END:VCALENDAR