BEGIN:VCALENDAR
VERSION:2.0
PRODID:-// - ECPv6.15.20//NONSGML v1.0//EN
CALSCALE:GREGORIAN
METHOD:PUBLISH
X-ORIGINAL-URL:https://lumenscholar.org
X-WR-CALDESC:Events for 
REFRESH-INTERVAL;VALUE=DURATION:PT1H
X-Robots-Tag:noindex
X-PUBLISHED-TTL:PT1H
BEGIN:VTIMEZONE
TZID:America/Denver
BEGIN:DAYLIGHT
TZOFFSETFROM:-0700
TZOFFSETTO:-0600
TZNAME:MDT
DTSTART:20250309T090000
END:DAYLIGHT
BEGIN:STANDARD
TZOFFSETFROM:-0600
TZOFFSETTO:-0700
TZNAME:MST
DTSTART:20251102T080000
END:STANDARD
BEGIN:DAYLIGHT
TZOFFSETFROM:-0700
TZOFFSETTO:-0600
TZNAME:MDT
DTSTART:20260308T090000
END:DAYLIGHT
BEGIN:STANDARD
TZOFFSETFROM:-0600
TZOFFSETTO:-0700
TZNAME:MST
DTSTART:20261101T080000
END:STANDARD
BEGIN:DAYLIGHT
TZOFFSETFROM:-0700
TZOFFSETTO:-0600
TZNAME:MDT
DTSTART:20270314T090000
END:DAYLIGHT
BEGIN:STANDARD
TZOFFSETFROM:-0600
TZOFFSETTO:-0700
TZNAME:MST
DTSTART:20271107T080000
END:STANDARD
END:VTIMEZONE
BEGIN:VEVENT
DTSTART;TZID=America/Denver:20261023T110000
DTEND;TZID=America/Denver:20261023T123000
DTSTAMP:20260423T014624
CREATED:20260422T162638Z
LAST-MODIFIED:20260422T162638Z
UID:10002621-1792753200-1792758600@lumenscholar.org
SUMMARY:Grades 6-8: The Hive Trampoline and Adventure Park 🐝
DESCRIPTION:Get ready to jump\, flip\, and have a blast at our Jr. High Activity at The Hive Trampoline & Adventure Park! \nCome hang out with friends\, burn off some energy\, and enjoy an afternoon full of fun and adventure. Whether you’re mastering the trampolines\, tackling obstacles\, or just laughing with friends\, this is an activity you won’t want to miss! \nWe can’t wait to see you there! 🎉 \nA waiver is required for all students attending. Please click here to complete the waiver form. \nThe deadline to RSVP is Wednesday\, October 21st @ 3:00 pm. 
URL:https://lumenscholar.org/event/grades-6-8-the-hive-trampoline-and-adventure-park-%f0%9f%90%9d/
LOCATION:The Hive Trampoline & Adventure Park\, 955 N Main St.\, Spanish Fork\, UT\, 84660\, United States
CATEGORIES:Jr. High Events
ATTACH;FMTTYPE=image/jpeg:https://lumenscholar.org/wp-content/uploads/2026/04/In-Person-Events-2.jpg
END:VEVENT
END:VCALENDAR