BEGIN:VCALENDAR
VERSION:2.0
PRODID:-// - ECPv6.15.20//NONSGML v1.0//EN
CALSCALE:GREGORIAN
METHOD:PUBLISH
X-ORIGINAL-URL:https://lumenscholar.org
X-WR-CALDESC:Events for 
REFRESH-INTERVAL;VALUE=DURATION:PT1H
X-Robots-Tag:noindex
X-PUBLISHED-TTL:PT1H
BEGIN:VTIMEZONE
TZID:America/Denver
BEGIN:DAYLIGHT
TZOFFSETFROM:-0700
TZOFFSETTO:-0600
TZNAME:MDT
DTSTART:20250309T090000
END:DAYLIGHT
BEGIN:STANDARD
TZOFFSETFROM:-0600
TZOFFSETTO:-0700
TZNAME:MST
DTSTART:20251102T080000
END:STANDARD
BEGIN:DAYLIGHT
TZOFFSETFROM:-0700
TZOFFSETTO:-0600
TZNAME:MDT
DTSTART:20260308T090000
END:DAYLIGHT
BEGIN:STANDARD
TZOFFSETFROM:-0600
TZOFFSETTO:-0700
TZNAME:MST
DTSTART:20261101T080000
END:STANDARD
BEGIN:DAYLIGHT
TZOFFSETFROM:-0700
TZOFFSETTO:-0600
TZNAME:MDT
DTSTART:20270314T090000
END:DAYLIGHT
BEGIN:STANDARD
TZOFFSETFROM:-0600
TZOFFSETTO:-0700
TZNAME:MST
DTSTART:20271107T080000
END:STANDARD
END:VTIMEZONE
BEGIN:VEVENT
DTSTART;TZID=America/Denver:20260519T190000
DTEND;TZID=America/Denver:20260519T203000
DTSTAMP:20260422T053003
CREATED:20251213T225118Z
LAST-MODIFIED:20251213T225118Z
UID:10002568-1779217200-1779222600@lumenscholar.org
SUMMARY:Commencement 2026 🎓
DESCRIPTION:Please join us in honoring our graduates! Seating for families and guests begins at 6:40 PM and is first come\, first served. A reception for seniors and their guests will follow commencement. Light refreshments will be served. \nAll seniors must attend a rehearsal at 5 PM to participate in the commencement. No guests will be admitted during this time. \nPlease park in the North Parking Lot and enter the Ashton Theater located within Library Hall through the crossover entrance:
URL:https://lumenscholar.org/event/commencement-2026-%f0%9f%8e%93/
LOCATION:Ashton Theater (Orem Library)\, 58 N State Street\, Orem\, Utah\, 84057
ATTACH;FMTTYPE=image/jpeg:https://lumenscholar.org/wp-content/uploads/2022/06/shutterstock_273979073_graduation.jpg
END:VEVENT
END:VCALENDAR